BEGIN:VCALENDAR
VERSION:2.0
PRODID:-//Land Of The Fanns - ECPv5.0.2.1//NONSGML v1.0//EN
CALSCALE:GREGORIAN
METHOD:PUBLISH
X-WR-CALNAME:Land Of The Fanns
X-ORIGINAL-URL:https://www.landofthefanns.org
X-WR-CALDESC:Events for Land Of The Fanns
BEGIN:VTIMEZONE
TZID:Europe/London
BEGIN:DAYLIGHT
TZOFFSETFROM:+0000
TZOFFSETTO:+0100
TZNAME:BST
DTSTART:20190331T010000
END:DAYLIGHT
BEGIN:STANDARD
TZOFFSETFROM:+0100
TZOFFSETTO:+0000
TZNAME:GMT
DTSTART:20191027T010000
END:STANDARD
END:VTIMEZONE
BEGIN:VEVENT
DTSTART;TZID=Europe/London:20190529T094500
DTEND;TZID=Europe/London:20190529T130000
DTSTAMP:20260426T014745
CREATED:20190516T175132Z
LAST-MODIFIED:20190523T085203Z
UID:1392-1559123100-1559134800@www.landofthefanns.org
SUMMARY:2. Langdon Hills
DESCRIPTION:Land of the Fanns 100 Stories\nWalk 2: Langdon Hills\nCircular Walk\nWednesday 29th May 2019 \nBook a place here. \nIntroduction  \nThis walk is part of the Land of the Fanns ‘Community Mapping – 100 Stories project’ led by Kinetika\, which\, with local communities\, will identify and celebrate 100 stories gathered in response to the Land of the Fanns landscape areas\, and make 100 silk flags using Kinetika’s batik silk painting process. The project will culminate in a 100 Stories Walking/Arts festival in Summer 2020. \nThe walk route has been devised by local volunteers to inspire stories\, memories and responses and during the walk we invite you to do any or all of the following \n\nEnjoy the walk\, meet people\, connect with Land of the Fanns and get to know the area if you are new to it\nThink about your personal connections to the landscape en route\nShare stories about the area\nCapture stories or themes through informal writing and drawing activities\nRecord the experience through taking photos on smart phones or cameras\n\nWalk description \nThe walk starts at Westley Heights\, Langdon Hills with an introduction to the Community Mapping project by Kinetika. This hidden gem straddling the Thurrock/Basildon boundary proves you can still lose yourself in a green open spaces place despite being so close to these urban centres. The walk will finish with a summary from Kinetika at Westley Heights. \n\nRegistration for walk: 9:45 am\nWalk starts: 10:00am\nMeet: Westley Heights\, High Road\, Basildon\, SS16 6HU (Google Maps: Westley Heights Country Park\, Langdon Hills\, Basildon SS16 5LT)\nWalk ends: 1:00 pm\nEnds: Westley Heights\, High Road\, Basildon\, SS16 6HU (Google Maps: Westley Heights Country Park\, Langdon Hills\, Basildon SS16 5LT)\n\n  \n\nDuration: 3 hours\nDistance: 4.3 miles\nGrading: Moderate/ Challenging in parts\nWalk leaders: Bob Rigden\, Friends of Langdon Hills\n\nParking\nFree Parking at Westley Heights\, High Road\, Basildon\, SS16 6HU (Google Maps: Westley Heights Country Park\, Langdon Hills\, Basildon SS16 5LT) \nTrain stations\nTrain station at the start: Laindon (SS15 6UA) \nBuses\nNearest bus stop: Westley Road\, 5 \nAccessibility\nThese walks are of different lengths and on different terrain. Some are mainly on footpaths\, and other mainly on footpaths where ground may be uneven.  This walk is not suitable for wheelchairs. \nAbout the Land of the Fanns Community Mapping Project\nThe 100 Stories programme will work with local communities and individuals of all ages across the Land of the Fanns area to identify and celebrate 100 stories gathered in response to the Land of the Fanns landscape areas\, and make 100 silk flags using Kinetika’s batik silk painting process. The project will culminate in a 100 Stories Walking/Arts festival in Summer 2020. Alongside the community mapping and arts festival will be a creative skills training programme including interpreting the landscape through art\, creative writing\, filming\, photography and walk leader training. \n  \nPlease note: \nYou need to choose walks within your capabilities; the walk leaders are experienced but must take your word that you are sufficiently fit for the grade of walk you have chosen. \nWalk leaders will be at the start of the walk regardless of the weather. In the unlikely event of any unforeseen circumstances\, Land of the Fanns and Kinetika reserve the right to change or cancel a walk and/or performance. Please check the website www.landofthefanns.org regularly for any updates or follow us on Twitter  or Facebook. . \nPlease ensure that you are properly equipped for all walks. The weather can be unpredictable so bring waterproof clothing and/or sun hats and sun cream – it’s best to be prepared for everything! \nWalking boots/shoes are recommended\, but otherwise please wear suitable and comfortable footwear- best to leave open-toe sandals or high heels at home. \nMake sure you bring a packed lunch\, if necessary\, and plenty to drink. \nDue care has been exercised in organising the walks\, however Kinetika\, the funders and associated partners of the project cannot accept liability for loss\, accident or injury caused to any person following the routes. \nWe will be taking photographs and video of this event to promote and celebrate the project in print and online. If you do not give consent to be photographed or filmed please let a member of the Kinetika team know on the day. \nParticipants under the age of 16 must be accompanied by an adult. \nLink to Eventbrite page here.\n
URL:https://www.landofthefanns.org/event/2-langdon-hills/
LOCATION:Langdon Hills\, Westley Heights\, Langdon Hills\, Westley Heights\, High Road\, Basildon\, Essex\, SS16 6HU\, United Kingdom
CATEGORIES:LotF 100 Walks
ORGANIZER;CN="Kinetika":MAILTO:info@kinetika.co.uk
END:VEVENT
END:VCALENDAR